Workbook
Name \0: #REF!
Name \A: #REF!
Name \b: #REF!
Name \C: #REF!
Name \D: #REF!
Name \e: #REF!
Name \f: #REF!
Name \g: #REF!
Name \h: #REF!
Name \I: #REF!
Name \j: #REF!
Name \k: #REF!
Name \L: #REF!
Name \M: #REF!
Name \N: #REF!
Name \P: #REF!
Name \r: #REF!
Name \S: #REF!
Name \T: #REF!
Name \u: #REF!
Name \v: #REF!
Name \x: #REF!
Name \y: #REF!
Name \Z: #REF!
Name ______HOJ66: #REF!
Name ______HOJ88: #REF!
Name ______OPC1: #REF!
Name ______QUA1: #REF!
Name ______QUA2: #REF!
Name ______QUA3: #REF!
Name ______SUB1: #REF!
Name ______SUB2: #REF!
Name ____md1: #REF!
Name ____mes1: #REF!
Name ____SUB3: #REF!
Name ____TST3: #REF!
Name ___ANO1999: #REF!
Name ___ANO2000: #REF!
Name ___ANO2001: #REF!
Name ___ANO2002: #REF!
Name ___ANO2003: #REF!
Name ___Fx1999: #REF!
Name ___fx99: #REF!
Name ___gdp85: #REF!
Name ___gdp86: #REF!
Name ___gdp87: #REF!
Name ___gdp88: #REF!
Name ___gdp89: #REF!
Name ___gdp90: #REF!
Name ___gdp91: #REF!
Name ___gdp92: #REF!
Name ___gdp93: #REF!
Name ___gdp94: #REF!
Name ___gdp95: #REF!
Name ___gdp96: #REF!
Name ___gdp97: #REF!
Name ___gdp98: #REF!
Name ___gdp99: #REF!
Name ___IMP2: #REF!
Name ___mar2003: #REF!

Sheet Receita (resumo)
B2: #VALUE!
C3: Mês: | D3: 46295 | F3: →Menu←
C4: Trim: | D4: 3T26
B7: Português
B9: Receita Operacional | C9: Consolidado
B10: (R$ Milhões) | C10: 3T26 | D10: 3T25 | E10: Var (%) | F10: 9M26 | G10: 9M25 | H10: Var (%) | J10: A.H | K10: vs Tri | L10: vs Acum
B11: Receita de Uso da Rede Elétrica | C11: =SUM(C12,C13,C16,C19,C20,C21) -> 1710.581 | D11: =SUM(D12,D13,D16,D19,D20,D21) -> 1239.4003 | E11: =IF(OR(AND(D11>0,C11<0),AND(D11<0,C11>0)),"n.a",IFERROR(C11/D11-1,"N.A.")) -> 0.38016825 | F11: =SUM(F12,F13,F16,F19,F20,F21) -> 4503.747 | G11: =SUM(G12,G13,G16,G19,G20,G21) -> 3684.8237 | H11: =IF(OR(AND(G11>0,F11<0),AND(G11<0,F11>0)),"n.a",IFERROR(F11/G11-1,"N.A.")) -> 0.22224221 | J11: =C11/$C$23 -> 0.99353538 | K11: =C11-D11 -> 471.18066 | L11: =F11-G11 -> 818.92334
B12: RBSE | C12: 519.52951 | D12: 511.53667 | E12: =IF(OR(AND(D12>0,C12<0),AND(D12<0,C12>0)),"n.a",IFERROR(C12/D12-1,"N.A.")) -> 0.015625146 | F12: 1542.6029 | G12: 1648.7472 | H12: =IF(OR(AND(G12>0,F12<0),AND(G12<0,F12>0)),"n.a",IFERROR(F12/G12-1,"N.A.")) -> -0.064378782 | J12: =C12/$C$23 -> 0.30175183 | K12: =C12-D12 -> 7.9928353 | L12: =F12-G12 -> -106.14434
B13: Concessão Paulista (contrato 059) | C13: =SUM(C14:C15) -> 519.31214 | D13: =SUM(D14:D15) -> 468.08657 | E13: =IF(OR(AND(D13>0,C13<0),AND(D13<0,C13>0)),"n.a",IFERROR(C13/D13-1,"N.A.")) -> 0.1094361 | F13: =SUM(F14:F15) -> 1484.7239 | G13: =SUM(G14:G15) -> 1340.1926 | H13: =IF(OR(AND(G13>0,F13<0),AND(G13<0,F13>0)),"n.a",IFERROR(F13/G13-1,"N.A.")) -> 0.1078437 | J13: =C13/$C$23 -> 0.30162558 | K13: =C13-D13 -> 51.225567 | L13: =F13-G13 -> 144.53133
B14: Operação e Manutenção (O&M)¹ | C14: 249.23377 | D14: 238.25493 | E14: =IF(OR(AND(D14>0,C14<0),AND(D14<0,C14>0)),"n.a",IFERROR(C14/D14-1,"N.A.")) -> 0.046080206 | F14: 725.74362 | G14: 708.51348 | H14: =IF(OR(AND(G14>0,F14<0),AND(G14<0,F14>0)),"n.a",IFERROR(F14/G14-1,"N.A.")) -> 0.024318727 | J14: =C14/$C$23 -> 0.14475933 | K14: =C14-D14 -> 10.978836 | L14: =F14-G14 -> 17.230146
B15: Reforços e Melhorias (R&M) | C15: 270.07837 | D15: 229.83164 | E15: =IF(OR(AND(D15>0,C15<0),AND(D15<0,C15>0)),"n.a",IFERROR(C15/D15-1,"N.A.")) -> 0.17511397 | F15: 758.98027 | G15: 631.67909 | H15: =IF(OR(AND(G15>0,F15<0),AND(G15<0,F15>0)),"n.a",IFERROR(F15/G15-1,"N.A.")) -> 0.20152825 | J15: =C15/$C$23 -> 0.15686624 | K15: =C15-D15 -> 40.24673 | L15: =F15-G15 -> 127.30118
B16: Contratos Licitados | C16: =SUM(C17:C18) -> 551.94651 | D16: =SUM(D17:D18) -> 265.11242 | E16: =IF(OR(AND(D16>0,C16<0),AND(D16<0,C16>0)),"n.a",IFERROR(C16/D16-1,"N.A.")) -> 1.0819338 | F16: =SUM(F17:F18) -> 1274.4575 | G16: =SUM(G17:G18) -> 773.67481 | H16: =IF(OR(AND(G16>0,F16<0),AND(G16<0,F16>0)),"n.a",IFERROR(F16/G16-1,"N.A.")) -> 0.64727805 | J16: =C16/$C$23 -> 0.32058019 | K16: =C16-D16 -> 286.83409 | L16: =F16-G16 -> 500.78272
B17: Projeto Básico (CAEE + O&M) | C17: 533.35108 | D17: 247.39356 | E17: =IF(OR(AND(D17>0,C17<0),AND(D17<0,C17>0)),"n.a",IFERROR(C17/D17-1,"N.A.")) -> 1.155881 | F17: 1220.4603 | G17: 739.23195 | H17: =IF(OR(AND(G17>0,F17<0),AND(G17<0,F17>0)),"n.a",IFERROR(F17/G17-1,"N.A.")) -> 0.65098428 | J17: =C17/$C$23 -> 0.30977964 | K17: =C17-D17 -> 285.95751 | L17: =F17-G17 -> 481.22838
B18: Reforços e Melhorias (R&M) | C18: 18.595436 | D18: 17.718857 | E18: =IF(OR(AND(D18>0,C18<0),AND(D18<0,C18>0)),"n.a",IFERROR(C18/D18-1,"N.A.")) -> 0.049471489 | F18: 53.997209 | G18: 34.442866 | H18: =IF(OR(AND(G18>0,F18<0),AND(G18<0,F18>0)),"n.a",IFERROR(F18/G18-1,"N.A.")) -> 0.56773277 | J18: =C18/$C$23 -> 0.010800554 | K18: =C18-D18 -> 0.87657826 | L18: =F18-G18 -> 19.554343
B19: Parcela de Ajuste (PA) e Antecipações | C19: 98.54241 | D19: -52.200535 | E19: =IF(OR(AND(D19>0,C19<0),AND(D19<0,C19>0)),"n.a",IFERROR(C19/D19-1,"N.A.")) -> n.a | F19: 142.22279 | G19: -163.5603 | H19: =IF(OR(AND(G19>0,F19<0),AND(G19<0,F19>0)),"n.a",IFERROR(F19/G19-1,"N.A.")) -> n.a | J19: =C19/$C$23 -> 0.057235156 | K19: =C19-D19 -> 150.74294 | L19: =F19-G19 -> 305.78309
B20: Parcela Variável (PV) | C20: -15.998256 | D20: -15.603813 | E20: =IF(OR(AND(D20>0,C20<0),AND(D20<0,C20>0)),"n.a",IFERROR(C20/D20-1,"N.A.")) -> 0.025278664 | F20: -49.648408 | G20: -44.207244 | H20: =IF(OR(AND(G20>0,F20<0),AND(G20<0,F20>0)),"n.a",IFERROR(F20/G20-1,"N.A.")) -> 0.12308307 | J20: =C20/$C$23 -> -0.0092920671 | K20: =C20-D20 -> -0.39444354 | L20: =F20-G20 -> -5.4411634
B21: Encargos Regulatórios ex RAP (CDE e PROINFA) | C21: 37.248689 | D21: 62.469026 | E21: =IF(OR(AND(D21>0,C21<0),AND(D21<0,C21>0)),"n.a",IFERROR(C21/D21-1,"N.A.")) -> -0.40372547 | F21: 109.38833 | G21: 129.97664 | H21: =IF(OR(AND(G21>0,F21<0),AND(G21<0,F21>0)),"n.a",IFERROR(F21/G21-1,"N.A.")) -> -0.15840003 | J21: =C21/$C$23 -> 0.021634691 | K21: =C21-D21 -> -25.220337 | L21: =F21-G21 -> -20.588303
B22: Outras | C22: 11.130213 | D22: 11.182103 | E22: =IF(OR(AND(D22>0,C22<0),AND(D22<0,C22>0)),"n.a",IFERROR(C22/D22-1,"N.A.")) -> -0.0046404433 | F22: 32.899095 | G22: 33.878218 | H22: =IF(OR(AND(G22>0,F22<0),AND(G22<0,F22>0)),"n.a",IFERROR(F22/G22-1,"N.A.")) -> -0.028901235 | J22: =C22/$C$23 -> 0.0064646223 | K22: =C22-D22 -> -0.051889914 | L22: =F22-G22 -> -0.97912233
B23: Receita Bruta | C23: =C11+C22 -> 1721.7112 | D23: =D11+D22 -> 1250.5824 | E23: =IF(OR(AND(D23>0,C23<0),AND(D23<0,C23>0)),"n.a",IFERROR(C23/D23-1,"N.A.")) -> 0.37672748 | F23: =F11+F22 -> 4536.6461 | G23: =G11+G22 -> 3718.7019 | H23: =IF(OR(AND(G23>0,F23<0),AND(G23<0,F23>0)),"n.a",IFERROR(F23/G23-1,"N.A.")) -> 0.21995423 | J23: =C23/$C$23 -> 1 | K23: =C23-D23 -> 471.12877 | L23: =F23-G23 -> 817.94421
B24: Deduções | C24: -211.046 | D24: -178.249 | E24: =IF(OR(AND(D24>0,C24<0),AND(D24<0,C24>0)),"n.a",IFERROR(C24/D24-1,"N.A.")) -> 0.18399542 | F24: -556.0541 | G24: -485.8861 | H24: =IF(OR(AND(G24>0,F24<0),AND(G24<0,F24>0)),"n.a",IFERROR(F24/G24-1,"N.A.")) -> 0.14441245 | J24: =C24/$C$23 -> -0.12257921 | K24: =C24-D24 -> -32.797 | L24: =F24-G24 -> -70.168
B25: Tributos e Contribuições (PIS e Cofins) | C25: -149.279 | D25: -105.611 | E25: =IF(OR(AND(D25>0,C25<0),AND(D25<0,C25>0)),"n.a",IFERROR(C25/D25-1,"N.A.")) -> 0.41347966 | F25: -391.764 | G25: -319.498 | H25: =IF(OR(AND(G25>0,F25<0),AND(G25<0,F25>0)),"n.a",IFERROR(F25/G25-1,"N.A.")) -> 0.22618608 | J25: =C25/$C$23 -> -0.086703855 | K25: =C25-D25 -> -43.668 | L25: =F25-G25 -> -72.266
B26: Encargos Regulatórios ex RAP (CDE e PROINFA) | C26: -33.696 | D26: -57.808 | E26: =IF(OR(AND(D26>0,C26<0),AND(D26<0,C26>0)),"n.a",IFERROR(C26/D26-1,"N.A.")) -> -0.4171049 | F26: -98.7021 | G26: -116.8871 | H26: =IF(OR(AND(G26>0,F26<0),AND(G26<0,F26>0)),"n.a",IFERROR(F26/G26-1,"N.A.")) -> -0.15557748 | J26: =C26/$C$23 -> -0.019571226 | K26: =C26-D26 -> 24.112 | L26: =F26-G26 -> 18.185
B27: Encargos Regulatórios in RAP (P&D, RGR e TFSEE) | C27: -28.071 | D27: -14.83 | E27: =IF(OR(AND(D27>0,C27<0),AND(D27<0,C27>0)),"n.a",IFERROR(C27/D27-1,"N.A.")) -> 0.89285233 | F27: -65.588 | G27: -49.501 | H27: =IF(OR(AND(G27>0,F27<0),AND(G27<0,F27>0)),"n.a",IFERROR(F27/G27-1,"N.A.")) -> 0.32498333 | J27: =C27/$C$23 -> -0.016304128 | K27: =C27-D27 -> -13.241 | L27: =F27-G27 -> -16.087
B28: Receita Líquida | C28: =SUM(C23:C24) -> 1510.6652 | D28: =SUM(D23:D24) -> 1072.3334 | E28: =IF(OR(AND(D28>0,C28<0),AND(D28<0,C28>0)),"n.a",IFERROR(C28/D28-1,"N.A.")) -> 0.40876443 | F28: =SUM(F23:F24) -> 3980.592 | G28: =SUM(G23:G24) -> 3232.8158 | H28: =IF(OR(AND(G28>0,F28<0),AND(G28<0,F28>0)),"n.a",IFERROR(F28/G28-1,"N.A.")) -> 0.23130802 | J28: =C28/$C$23 -> 0.87742079 | K28: =C28-D28 -> 438.33177 | L28: =F28-G28 -> 747.77621
B30: RBSE Líquida | C30: 471.47303 | D30: 464.21953 | E30: =IF(OR(AND(D30>0,C30<0),AND(D30<0,C30>0)),"n.a",IFERROR(C30/D30-1,"N.A.")) -> 0.015625146 | F30: 1399.9121 | G30: 1496.2381 | H30: =IF(OR(AND(G30>0,F30<0),AND(G30<0,F30>0)),"n.a",IFERROR(F30/G30-1,"N.A.")) -> -0.064378782 | J30: =C30/$C$31 -> 0.45369185 | K30: =C30-D30 -> 7.253498 | L30: =D30-E30 -> 464.2039
B31: Receita Líquida ex-RBSE | C31: =C28-C30 -> 1039.1922 | D31: =D28-D30 -> 608.11391 | E31: =IF(OR(AND(D31>0,C31<0),AND(D31<0,C31>0)),"n.a",IFERROR(C31/D31-1,"N.A.")) -> 0.7088775 | F31: =F28-F30 -> 2580.6799 | G31: =G28-G30 -> 1736.5777 | H31: =IF(OR(AND(G31>0,F31<0),AND(G31<0,F31>0)),"n.a",IFERROR(F31/G31-1,"N.A.")) -> 0.48607223 | J31: =C31/$C$23 -> 0.60358101 | K31: =C31-D31 -> 431.07827 | L31: =F31-G31 -> 844.1022
B33: PMSO/Receita Líquida ex-RBSE | C33: ='Custos e Despesas'!C18/'Receita (resumo)'!C31 -> -0.22645298 | D33: ='Custos e Despesas'!D18/'Receita (resumo)'!D31 -> -0.30826439 | F33: ='Custos e Despesas'!F18/'Receita (resumo)'!F31 -> -0.24228104 | G33: ='Custos e Despesas'!G18/'Receita (resumo)'!G31 -> -0.31779464
B35: Check Receita Bruta (DRE) | C35: =C23-'DRE Reg'!C11/1000 -> 0.0022127761 | D35: =D23-'DRE Reg'!D11/1000 -> 0.00044483919 | F35: =F23-'DRE Reg'!F11/1000 -> 0.29109525 | G35: =G23-'DRE Reg'!G11/1000 -> -0.00011927456
B36: Check Receita Líquida (DRE) | C36: =C28-'DRE Reg'!C17/1000 -> 0.0022127761 | D36: =D28-'DRE Reg'!D17/1000 -> 0.00044483919 | F36: =F28-'DRE Reg'!F17/1000 -> 0.29109525 | G36: =G28-'DRE Reg'!G17/1000 -> -0.00011927456
B37: Check Uso da Rede Elétrica | C37: =C11-'DRE Reg'!C12/1000 -> 0.001 | D37: =D11-'DRE Reg'!D12/1000 -> 0.00034214919 | F37: =F11-'DRE Reg'!F12/1000 -> 0 | G37: =G11-'DRE Reg'!G12/1000 -> -0.00033685456
B38: Check Planilha Receita | C38: 0.00375852 | D38: -0.0034045 | F38: 0.29000746 | G38: 0.00084182
B39: Inglês
B41: Operating Revenue | C41: Consolidated
B42: (R$ million) | C42: 3Q26 | D42: 3Q25 | E42: Chg (%) | F42: 9M26 | G42: 9M25 | H42: Chg (%) | J42: A.H | K42: vs Tri | L42: vs Acum
B43: Eletric Network Revenue | C43: =C11 -> 1710.581 | D43: =D11 -> 1239.4003 | E43: =E11 -> 0.38016825 | F43: =F11 -> 4503.747 | G43: =G11 -> 3684.8237 | H43: =H11 -> 0.22224221 | J43: =C43/$C$23 -> 0.99353538 | K43: =C43-D43 -> 471.18066 | L43: =F43-G43 -> 818.92334
B44: RBSE | C44: =C12 -> 519.52951 | D44: =D12 -> 511.53667 | E44: =E12 -> 0.015625146 | F44: =F12 -> 1542.6029 | G44: =G12 -> 1648.7472 | H44: =H12 -> -0.064378782 | J44: =C44/$C$23 -> 0.30175183 | K44: =C44-D44 -> 7.9928353 | L44: =F44-G44 -> -106.14434
B45: Paulista Concession (059/2001 contract) | C45: =C13 -> 519.31214 | D45: =D13 -> 468.08657 | E45: =E13 -> 0.1094361 | F45: =F13 -> 1484.7239 | G45: =G13 -> 1340.1926 | H45: =H13 -> 0.1078437 | J45: =C45/$C$23 -> 0.30162558 | K45: =C45-D45 -> 51.225567 | L45: =F45-G45 -> 144.53133
B46: Operating & Maintenance (O&M)¹ | C46: =C14 -> 249.23377 | D46: =D14 -> 238.25493 | E46: =E14 -> 0.046080206 | F46: =F14 -> 725.74362 | G46: =G14 -> 708.51348 | H46: =H14 -> 0.024318727 | J46: =C46/$C$23 -> 0.14475933 | K46: =C46-D46 -> 10.978836 | L46: =F46-G46 -> 17.230146
B47: Retrofitting & Improvements (R&I) | C47: =C15 -> 270.07837 | D47: =D15 -> 229.83164 | E47: =E15 -> 0.17511397 | F47: =F15 -> 758.98027 | G47: =G15 -> 631.67909 | H47: =H15 -> 0.20152825 | J47: =C47/$C$23 -> 0.15686624 | K47: =C47-D47 -> 40.24673 | L47: =F47-G47 -> 127.30118
B48: New Concessions | C48: =C16 -> 551.94651 | D48: =D16 -> 265.11242 | E48: =E16 -> 1.0819338 | F48: =F16 -> 1274.4575 | G48: =G16 -> 773.67481 | H48: =H16 -> 0.64727805 | J48: =C48/$C$23 -> 0.32058019 | K48: =C48-D48 -> 286.83409 | L48: =F48-G48 -> 500.78272
...

Sheet Custos e Despesas
B2: #VALUE!
C3: Mês: | D3: 46295 | F3: →Menu←
C4: Trim: | D4: 3T26
B7: Português
B9: Custos e Despesas de O&M | C9: Consolidado | M9: Não recorrentes
B10: (R$ milhões) | C10: 3T26 | D10: 3T25 | E10: Var (%) | F10: 9M26 | G10: 9M25 | H10: Var (%) | J10: vs Tri | K10: vs Acum | M10: =F10 -> 9M26 | N10: R$ | O10: Categoria | Q10: =G10 -> 9M25 | R10: R$ | S10: Categoria
A11: 7 | B11: Pessoal | C11: -115.73966 | D11: -100.46819 | E11: =IF(OR(AND(D11>0,C11<0),AND(D11<0,C11>0)),"n.a",IFERROR(C11/D11-1,"N.A.")) -> 0.152003 | F11: -331.08487 | G11: -310.53646 | H11: =IF(OR(AND(G11>0,F11<0),AND(G11<0,F11>0)),"n.a",IFERROR(F11/G11-1,"N.A.")) -> 0.066170681 | J11: =C11-D11 -> -15.271467 | K11: =F11-G11 -> -20.548409 | M11: Laudo Aturial | N11: 4.0604947 | O11: Pessoal | Q11: Laudo Atuarial | R11: 5.7692071 | S11: Pessoal
A12: 8 | B12: Materiais | C12: -6.277325 | D12: -5.6466581 | E12: =IF(OR(AND(D12>0,C12<0),AND(D12<0,C12>0)),"n.a",IFERROR(C12/D12-1,"N.A.")) -> 0.11168854 | F12: -17.241413 | G12: -16.86983 | H12: =IF(OR(AND(G12>0,F12<0),AND(G12<0,F12>0)),"n.a",IFERROR(F12/G12-1,"N.A.")) -> 0.022026488 | J12: =C12-D12 -> -0.63066698 | K12: =F12-G12 -> -0.3715831 | M12: Integração IE Madeira | N12: 15.472042 | O12: Serviços
A13: 9 | B13: Serviços | C13: -66.577493 | D13: -54.050478 | E13: =IF(OR(AND(D13>0,C13<0),AND(D13<0,C13>0)),"n.a",IFERROR(C13/D13-1,"N.A.")) -> 0.23176511 | F13: -174.51312 | G13: -146.00465 | H13: =IF(OR(AND(G13>0,F13<0),AND(G13<0,F13>0)),"n.a",IFERROR(F13/G13-1,"N.A.")) -> 0.19525732 | J13: =C13-D13 -> -12.527015 | K13: =F13-G13 -> -28.508476 | M13: Integração IE Madeira | N13: 0.45645785 | O13: Serviços
A14: 11 | B14: Outros | C14: -28.445633 | D14: -25.371468 | E14: =IF(OR(AND(D14>0,C14<0),AND(D14<0,C14>0)),"n.a",IFERROR(C14/D14-1,"N.A.")) -> 0.12116622 | F14: -81.415357 | G14: -72.69495 | H14: =IF(OR(AND(G14>0,F14<0),AND(G14<0,F14>0)),"n.a",IFERROR(F14/G14-1,"N.A.")) -> 0.11995891 | J14: =C14-D14 -> -3.0741649 | K14: =F14-G14 -> -8.7204071 | M14: Leilão | N14: 1.0060609 | O14: Serviços
B15: PMSO (gerenciável) | C15: =SUM(C11:C14) -> -217.04011 | D15: =SUM(D11:D14) -> -185.5368 | E15: =IF(OR(AND(D15>0,C15<0),AND(D15<0,C15>0)),"n.a",IFERROR(C15/D15-1,"N.A.")) -> 0.1697955 | F15: =SUM(F11:F14) -> -604.25476 | G15: =SUM(G11:G14) -> -546.10589 | H15: =IF(OR(AND(G15>0,F15<0),AND(G15<0,F15>0)),"n.a",IFERROR(F15/G15-1,"N.A.")) -> 0.10647912 | J15: =C15-D15 -> -31.503313 | K15: =F15-G15 -> -58.148875
B16: Não recorrentes | C16: =-SUM(N19:N25)-C17 -> -16.934561 | D16: =-SUM(R19:R25)-D17 -> 0 | E16: =IF(OR(AND(D16>0,C16<0),AND(D16<0,C16>0)),"n.a",IFERROR(C16/D16-1,"N.A.")) -> N.A. | F16: =-SUM(N11:N17)-F17 -> -16.934561 | G16: =-SUM(R11:R17)-G17 -> 0 | H16: =IF(OR(AND(G16>0,F16<0),AND(G16<0,F16>0)),"n.a",IFERROR(F16/G16-1,"N.A.")) -> N.A. | J16: =C16-D16 -> -16.934561 | K16: =F16-G16 -> -16.934561
A17: 6154110136 | B17: Entidade de Previdência Privada | C17: =-N19 -> -1.3534982 | D17: =-R19 -> -1.9230691 | E17: =IF(OR(AND(D17>0,C17<0),AND(D17<0,C17>0)),"n.a",IFERROR(C17/D17-1,"N.A.")) -> -0.29617803 | F17: =-N11 -> -4.0604947 | G17: =-R11 -> -5.7692071 | H17: =IF(OR(AND(G17>0,F17<0),AND(G17<0,F17>0)),"n.a",IFERROR(F17/G17-1,"N.A.")) -> -0.29617803 | J17: =C17-D17 -> 0.56957081 | K17: =F17-G17 -> 1.7087124
B18: PMSO | C18: =SUM(C15:C17) -> -235.32817 | D18: =SUM(D15:D17) -> -187.45986 | E18: =IF(OR(AND(D18>0,C18<0),AND(D18<0,C18>0)),"n.a",IFERROR(C18/D18-1,"N.A.")) -> 0.25535228 | F18: =SUM(F15:F17) -> -625.24982 | G18: =SUM(G15:G17) -> -551.87509 | H18: =IF(OR(AND(G18>0,F18<0),AND(G18<0,F18>0)),"n.a",IFERROR(F18/G18-1,"N.A.")) -> 0.13295531 | J18: =C18-D18 -> -47.868304 | K18: =F18-G18 -> -73.374724 | M18: =C10 -> 3T26 | N18: R$ | O18: Categoria | Q18: =D10 -> 3T25 | R18: R$ | S18: Categoria
B19: Contingências | C19: 23.5936 | D19: -0.22453579 | E19: =IF(OR(AND(D19>0,C19<0),AND(D19<0,C19>0)),"n.a",IFERROR(C19/D19-1,"N.A.")) -> n.a | F19: 19.236909 | G19: -20.830504 | H19: =IF(OR(AND(G19>0,F19<0),AND(G19<0,F19>0)),"n.a",IFERROR(F19/G19-1,"N.A.")) -> n.a | J19: =C19-D19 -> 23.818136 | K19: =F19-G19 -> 40.067414 | M19: Laudo Aturial | N19: 1.3534982 | O19: Pessoal | Q19: Laudo Atuarial | R19: 1.9230691 | S19: Pessoal | T19: =R19-N19 -> 0.56957081
A20: 10 | B20: Depreciação | C20: -250.96963 | D20: -167.5607 | E20: =IF(OR(AND(D20>0,C20<0),AND(D20<0,C20>0)),"n.a",IFERROR(C20/D20-1,"N.A.")) -> 0.4977834 | F20: -642.55116 | G20: -591.34202 | H20: =IF(OR(AND(G20>0,F20<0),AND(G20<0,F20>0)),"n.a",IFERROR(F20/G20-1,"N.A.")) -> 0.08659817 | J20: =C20-D20 -> -83.408934 | K20: =F20-G20 -> -51.209137 | M20: Integração IE Madeira | N20: 15.472042 | O20: Serviços
B21: Demais custos e despesas | C21: =SUM(C19:C20) -> -227.37603 | D21: =SUM(D19:D20) -> -167.78523 | E21: =IF(OR(AND(D21>0,C21<0),AND(D21<0,C21>0)),"n.a",IFERROR(C21/D21-1,"N.A.")) -> 0.35516116 | F21: =SUM(F19:F20) -> -623.31425 | G21: =SUM(G19:G20) -> -612.17252 | H21: =IF(OR(AND(G21>0,F21<0),AND(G21<0,F21>0)),"n.a",IFERROR(F21/G21-1,"N.A.")) -> 0.018200299 | J21: =C21-D21 -> -59.590798 | K21: =F21-G21 -> -11.141723 | M21: Integração IE Madeira | N21: 0.45645785 | O21: Serviços
B22: Total | C22: =SUM(C18,C21) -> -462.7042 | D22: =SUM(D18,D21) -> -355.2451 | E22: =IF(OR(AND(D22>0,C22<0),AND(D22<0,C22>0)),"n.a",IFERROR(C22/D22-1,"N.A.")) -> 0.30249285 | F22: =SUM(F18,F21) -> -1248.5641 | G22: =SUM(G18,G21) -> -1164.0476 | H22: =IF(OR(AND(G22>0,F22<0),AND(G22<0,F22>0)),"n.a",IFERROR(F22/G22-1,"N.A.")) -> 0.072605661 | J22: =C22-D22 -> -107.4591 | K22: =F22-G22 -> -84.516446 | M22: Leilão | N22: 1.0060609 | O22: Serviços
A24: 6 | B24: Check | C24: 0 | D24: 0 | F24: 0 | G24: 0
B26: PMSO Gerenciável /Receita Líquida | C26: -0.14367188 | D26: -0.17302155 | E26: -2.9349672 | F26: -0.15180023 | G26: -0.16892577 | H26: -1.7125542
B27: PMSO/Receita Líquida | C27: -0.15577784 | D27: -0.1748149 | E27: -1.9037058 | F27: -0.15707458 | G27: -0.17071034 | H27: -1.3635764
B28: PMSO Gerenciável /Rec. Líquida Ex RBSE | C28: -0.20885464 | D28: -0.30510204 | E28: -9.62474 | F28: -0.23414557 | G28: -0.31447247 | H28: -8.0326906
B29: PMSO /Rec. Líquida Ex RBSE | C29: -0.22645298 | D29: -0.30826439 | E29: -8.1811408 | F29: -0.24228104 | G29: -0.31779464 | H29: -7.5513601
B32: Inglês
B34: O&M Costs and Expenses | C34: Consolidated
B35: (R$ million) | C35: 3Q26 | D35: 3Q25 | E35: Chg (%) | F35: 9M26 | G35: 9M25 | H35: Chg (%)
B36: Personnel | C36: =C11 -> -115.73966 | D36: =D11 -> -100.46819 | E36: =E11 -> 0.152003 | F36: =F11 -> -331.08487 | G36: =G11 -> -310.53646 | H36: =H11 -> 0.066170681
B37: Material | C37: =C12 -> -6.277325 | D37: =D12 -> -5.6466581 | E37: =E12 -> 0.11168854 | F37: =F12 -> -17.241413 | G37: =G12 -> -16.86983 | H37: =H12 -> 0.022026488
B38: Services | C38: =C13 -> -66.577493 | D38: =D13 -> -54.050478 | E38: =E13 -> 0.23176511 | F38: =F13 -> -174.51312 | G38: =G13 -> -146.00465 | H38: =H13 -> 0.19525732
B39: Others | C39: =C14 -> -28.445633 | D39: =D14 -> -25.371468 | E39: =E14 -> 0.12116622 | F39: =F14 -> -81.415357 | G39: =G14 -> -72.69495 | H39: =H14 -> 0.11995891
B40: Manageable PMSO | C40: =C15 -> -217.04011 | D40: =D15 -> -185.5368 | E40: =C40/D40-1 -> 0.1697955 | F40: =F15 -> -604.25476 | G40: =G15 -> -546.10589 | H40: =H15 -> 0.10647912
B41: Non-recurring | C41: =C16 -> -16.934561 | D41: =D16 -> 0 | E41: =E16 -> N.A. | F41: =F16 -> -16.934561 | G41: =G16 -> 0 | H41: =H16 -> N.A.
B42: Private Pension Entity | C42: =C17 -> -1.3534982 | D42: =D17 -> -1.9230691 | E42: =E17 -> -0.29617803 | F42: =F17 -> -4.0604947 | G42: =G17 -> -5.7692071 | H42: =H17 -> -0.29617803
B43: PMSO | C43: =SUM(C40:C42) -> -235.32817 | D43: =SUM(D40:D42) -> -187.45986 | E43: =IF(ROUND(C43,1)=ROUND(D43,1),0,C43/D43-1) -> 0.25535228 | F43: =SUM(F40:F42) -> -625.24982 | G43: =SUM(G40:G42) -> -551.87509 | H43: =IF(ROUND(F43,1)=ROUND(G43,1),0,F43/G43-1) -> 0.13295531
B44: Contingencies | C44: =C19 -> 23.5936 | D44: =D19 -> -0.22453579 | E44: =E19 -> n.a | F44: =F19 -> 19.236909 | G44: =G19 -> -20.830504 | H44: =H19 -> n.a
B45: Depreciation | C45: =C20 -> -250.96963 | D45: =D20 -> -167.5607 | E45: =E20 -> 0.4977834 | F45: =F20 -> -642.55116 | G45: =G20 -> -591.34202 | H45: =H20 -> 0.08659817
B46: Other costs and expenses | C46: =C21 -> -227.37603 | D46: =D21 -> -167.78523 | E46: =E21 -> 0.35516116 | F46: =F21 -> -623.31425 | G46: =G21 -> -612.17252 | H46: =H21 -> 0.018200299
B47: Total | C47: =C22 -> -462.7042 | D47: =D22 -> -355.2451 | E47: =E22 -> 0.30249285 | F47: =F22 -> -1248.5641 | G47: =G22 -> -1164.0476 | H47: =H22 -> 0.072605661

Sheet Equivalência Patrimonial
B2: #VALUE!
C3: Mês: | D3: 46295 | F3: →Menu←
C4: Trim: | D4: 3T26
B7: Português
M8: MADEIRA | N8: MADEIRA | O8: MADEIRA | P8: MADEIRA | Q8: MADEIRA | R8: MADEIRA | S8: MADEIRA | X8: Garanhuns | Y8: Garanhuns | Z8: Garanhuns | AA8: Garanhuns | AB8: Garanhuns | AC8: Garanhuns | AD8: Garanhuns | AI8: IEAI | AJ8: IEAI | AK8: IEAI | AL8: IEAI | AM8: IEAI | AN8: IEAI | AO8: IEAI | AT8: IEPG | AU8: IEPG | AV8: IEPG | AW8: IEPG | AX8: IEPG | AY8: IEPG | AZ8: IEPG | BE8: IVAI | BF8: IVAI | BG8: IVAI | BH8: IVAI | BI8: IVAI | BJ8: IVAI | BK8: IVAI
B9: EBITDA | C9: Consolidado + Controladas em Conj. | J9: vs Tri | K9: vs Acum | M9: IE MADEIRA | X9: IE GARANHUNS | AI9: IE AIMORÉS | AT9: IE PARAGUAÇU | BE9: IE IVAÍ | BP9: AIE (IE IVAÍ + IE PARAGUAÇU + IE AIMORÉS)
B10: (R$ milhões) | C10: 3T26 | D10: 3T25 | E10: Var (%) | F10: 9M26 | G10: 9M25 | H10: Var (%) | M10: Demonstração do Resultado | N10: 3T26 | O10: 3T25 | P10: Var (%) | Q10: 9M26 | R10: 9M25 | S10: Var (%) | U10: vs Tri | V10: vs Acum | X10: Demonstração do Resultado | Y10: =N10 -> 3T26 | Z10: =O10 -> 3T25 | AA10: =P10 -> Var (%) | AB10: 9M26 | AC10: 9M25 | AD10: =S10 -> Var (%) | AF10: vs Tri | AG10: vs Acum | AI10: Demonstração do Resultado | AJ10: =Y10 -> 3T26 | AK10: =Z10 -> 3T25 | AL10: =AA10 -> Var (%) | AM10: 9M26 | AN10: 9M25 | AO10: =AD10 -> Var (%) | AQ10: vs Tri | AR10: vs Acum | AT10: Demonstração do Resultado | AU10: =AJ10 -> 3T26 | AV10: =AK10 -> 3T25 | AW10: =AL10 -> Var (%) | AX10: 9M26 | AY10: 9M25 | AZ10: =AO10 -> Var (%) | BB10: vs Tri | BC10: vs Acum | BE10: Demonstração do Resultado | BF10: =AU10 -> 3T26 | BG10: =AV10 -> 3T25 | BH10: =AW10 -> Var (%) | BI10: 9M26 | BJ10: 9M25 | BK10: =AZ10 -> Var (%) | BM10: vs Tri | BN10: vs Acum | BP10: Demonstração do Resultado | BQ10: =BF10 -> 3T26 | BR10: =BG10 -> 3T25 | BS10: =BH10 -> Var (%) | BT10: 9M26 | BU10: 9M25 | BV10: =BK10 -> Var (%) | BX10: vs Tri | BY10: vs Acum
B11: Consolidado | C11: 3190.0834 | D11: 888.4816 | E11: =IF(OR(AND(D11>0,C11<0),AND(D11<0,C11>0)),"n.a",IFERROR(C11/D11-1,"N.A.")) -> 2.590489 | F11: 5178.1506 | G11: 2601.2753 | H11: =IF(OR(AND(G11>0,F11<0),AND(G11<0,F11>0)),"n.a",IFERROR(F11/G11-1,"N.A.")) -> 0.99061998 | J11: =IFERROR(C11-D11,"N.A") -> 2301.6018 | K11: =IFERROR(F11-G11,"N.A") -> 2576.8753 | M11: (R$ mil) | X11: (R$ mil) | AI11: (R$ mil) | AT11: (R$ mil) | BE11: (R$ mil) | BP11: (R$ mil)
B12: Controladas em Conjunto | C12: =SUM(C13:C17) -> 86.811174 | D12: =SUM(D13:D17) -> 191.1695 | E12: =IF(OR(AND(D12>0,C12<0),AND(D12<0,C12>0)),"n.a",IFERROR(C12/D12-1,"N.A.")) -> -0.54589422 | F12: =SUM(F13:F17) -> 448.51855 | G12: =SUM(G13:G17) -> 526.73503 | H12: =IF(OR(AND(G12>0,F12<0),AND(G12<0,F12>0)),"n.a",IFERROR(F12/G12-1,"N.A.")) -> -0.14849303 | J12: =IFERROR(C12-D12,"N.A") -> -104.35833 | K12: =IFERROR(F12-G12,"N.A") -> -78.21648 | M12: Receita Operacional Bruta | N12: 64727.584 | O12: 278295.26 | P12: =IF(OR(AND(O12>0,N12<0),AND(O12<0,N12>0)),"n.a",IFERROR(N12/O12-1,"N.A.")) -> -0.76741399 | Q12: 487397.81 | R12: 671076.05 | S12: =IF(OR(AND(R12>0,Q12<0),AND(R12<0,Q12>0)),"n.a",IFERROR(Q12/R12-1,"N.A.")) -> -0.27370704 | U12: =N12-O12 -> -213567.67 | V12: =Q12-R12 -> -183678.24 | X12: Receita Operacional Bruta | Y12: 13509.297 | Z12: 37318.924 | AA12: =IF(OR(AND(Z12>0,Y12<0),AND(Z12<0,Y12>0)),"n.a",IFERROR(Y12/Z12-1,"N.A.")) -> -0.63800411 | AB12: 102048.99 | AC12: 120223.1 | AD12: =IF(OR(AND(AC12>0,AB12<0),AND(AC12<0,AB12>0)),"n.a",IFERROR(AB12/AC12-1,"N.A.")) -> -0.15116986 | AF12: =Y12-Z12 -> -23809.627 | AG12: =AB12-AC12 -> -18174.109 | AI12: Receita Operacional Bruta | AJ12: 29668 | AK12: 29772 | AL12: =IF(OR(AND(AK12>0,AJ12<0),AND(AK12<0,AJ12>0)),"n.a",IFERROR(AJ12/AK12-1,"N.A.")) -> -0.0034932151 | AM12: 89604 | AN12: 86681 | AO12: =IF(OR(AND(AN12>0,AM12<0),AND(AN12<0,AM12>0)),"n.a",IFERROR(AM12/AN12-1,"N.A.")) -> 0.033721346 | AQ12: =AJ12-AK12 -> -104 | AR12: =AM12-AN12 -> 2923 | AT12: Receita Operacional Bruta | AU12: 46840 | AV12: 45303 | AW12: =IF(OR(AND(AV12>0,AU12<0),AND(AV12<0,AU12>0)),"n.a",IFERROR(AU12/AV12-1,"N.A.")) -> 0.033927113 | AX12: 135904 | AY12: 129348 | AZ12: =IF(OR(AND(AY12>0,AX12<0),AND(AY12<0,AX12>0)),"n.a",IFERROR(AX12/AY12-1,"N.A.")) -> 0.050684974 | BB12: =AU12-AV12 -> 1537 | BC12: =AX12-AY12 -> 6556 | BE12: Receita Operacional Bruta | BF12: 71516.51 | BG12: 103409.37 | BH12: =IF(OR(AND(BG12>0,BF12<0),AND(BG12<0,BF12>0)),"n.a",IFERROR(BF12/BG12-1,"N.A.")) -> -0.30841365 | BI12: 294346.46 | BJ12: 313371.29 | BK12: =IF(OR(AND(BJ12>0,BI12<0),AND(BJ12<0,BI12>0)),"n.a",IFERROR(BI12/BJ12-1,"N.A.")) -> -0.060710204 | BM12: =BF12-BG12 -> -31892.861 | BN12: =BI12-BJ12 -> -19024.835 | BP12: Receita Operacional Bruta | BQ12: =SUM(AJ12,AU12,BF12) -> 148024.51 | BR12: =SUM(AK12,AV12,BG12) -> 178484.37 | BS12: =IF(OR(AND(BR12>0,BQ12<0),AND(BR12<0,BQ12>0)),"n.a",IFERROR(BQ12/BR12-1,"N.A.")) -> -0.17065842 | BT12: =SUM(AM12,AX12,BI12) -> 519854.46 | BU12: =SUM(AN12,AY12,BJ12) -> 529400.29 | BV12: =IF(OR(AND(BU12>0,BT12<0),AND(BU12<0,BT12>0)),"n.a",IFERROR(BT12/BU12-1,"N.A.")) -> -0.018031412 | BX12: =BQ12-BR12 -> -30459.861 | BY12: =BT12-BU12 -> -9545.8349
B13: IE Madeira (51%) | C13: =N25/1000 -> 22.765184 | D13: =O25/1000 -> 101.68184 | E13: =IF(OR(AND(D13>0,C13<0),AND(D13<0,C13>0)),"n.a",IFERROR(C13/D13-1,"N.A.")) -> -0.77611357 | F13: =Q25/1000 -> 191.59186 | G13: =R25/1000 -> 256.75466 | H13: =IF(OR(AND(G13>0,F13<0),AND(G13<0,F13>0)),"n.a",IFERROR(F13/G13-1,"N.A.")) -> -0.25379405 | J13: =IFERROR(C13-D13,"N.A") -> -78.916658 | K13: =IFERROR(F13-G13,"N.A") -> -65.162805 | M13: Deduções à receita operacional | N13: -9631.9064 | O13: -29276.424 | P13: =IF(OR(AND(O13>0,N13<0),AND(O13<0,N13>0)),"n.a",IFERROR(N13/O13-1,"N.A.")) -> -0.67100127 | Q13: -67377.95 | R13: -81692.169 | S13: =IF(OR(AND(R13>0,Q13<0),AND(R13<0,Q13>0)),"n.a",IFERROR(Q13/R13-1,"N.A.")) -> -0.17522144 | U13: =N13-O13 -> 19644.518 | V13: =Q13-R13 -> 14314.219 | X13: Deduções à receita operacional | Y13: -1973.4271 | Z13: -5809.3921 | AA13: =IF(OR(AND(Z13>0,Y13<0),AND(Z13<0,Y13>0)),"n.a",IFERROR(Y13/Z13-1,"N.A.")) -> -0.66030404 | AB13: -13369.752 | AC13: -16722.544 | AD13: =IF(OR(AND(AC13>0,AB13<0),AND(AC13<0,AB13>0)),"n.a",IFERROR(AB13/AC13-1,"N.A.")) -> -0.20049536 | AF13: =Y13-Z13 -> 3835.965 | AG13: =AB13-AC13 -> 3352.7925 | AI13: Deduções à receita operacional | AJ13: -3085 | AK13: -3167 | AL13: =IF(OR(AND(AK13>0,AJ13<0),AND(AK13<0,AJ13>0)),"n.a",IFERROR(AJ13/AK13-1,"N.A.")) -> -0.025892011 | AM13: -9217 | AN13: -9121 | AO13: =IF(OR(AND(AN13>0,AM13<0),AND(AN13<0,AM13>0)),"n.a",IFERROR(AM13/AN13-1,"N.A.")) -> 0.010525162 | AQ13: =AJ13-AK13 -> 82 | AR13: =AM13-AN13 -> -96 | AT13: Deduções à receita operacional | AU13: -4863 | AV13: -4757 | AW13: =IF(OR(AND(AV13>0,AU13<0),AND(AV13<0,AU13>0)),"n.a",IFERROR(AU13/AV13-1,"N.A.")) -> 0.022282951 | AX13: -13915 | AY13: -14122 | AZ13: =IF(OR(AND(AY13>0,AX13<0),AND(AY13<0,AX13>0)),"n.a",IFERROR(AX13/AY13-1,"N.A.")) -> -0.01465798 | BB13: =AU13-AV13 -> -106 | BC13: =AX13-AY13 -> 207 | BE13: Deduções à receita operacional | BF13: -11917.824 | BG13: -10862.2 | BH13: =IF(OR(AND(BG13>0,BF13<0),AND(BG13<0,BF13>0)),"n.a",IFERROR(BF13/BG13-1,"N.A.")) -> 0.09718319 | BI13: -35289.302 | BJ13: -32873.215 | BK13: =IF(OR(AND(BJ13>0,BI13<0),AND(BJ13<0,BI13>0)),"n.a",IFERROR(BI13/BJ13-1,"N.A.")) -> 0.073497151 | BM13: =BF13-BG13 -> -1055.6233 | BN13: =BI13-BJ13 -> -2416.0876 | BP13: Deduções à receita operacional | BQ13: =SUM(AJ13,AU13,BF13) -> -19865.824 | BR13: =SUM(AK13,AV13,BG13) -> -18786.2 | BS13: =IF(OR(AND(BR13>0,BQ13<0),AND(BR13<0,BQ13>0)),"n.a",IFERROR(BQ13/BR13-1,"N.A.")) -> 0.057468954 | BT13: =SUM(AM13,AX13,BI13) -> -58421.302 | BU13: =SUM(AN13,AY13,BJ13) -> -56116.215 | BV13: =IF(OR(AND(BU13>0,BT13<0),AND(BU13<0,BT13>0)),"n.a",IFERROR(BT13/BU13-1,"N.A.")) -> 0.041077034 | BX13: =BQ13-BR13 -> -1079.6233 | BY13: =BT13-BU13 -> -2305.0876
B14: IE Garanhuns (51%) | C14: =Y25/1000 -> 4.8899044 | D14: =Z25/1000 -> 13.972979 | E14: =IF(OR(AND(D14>0,C14<0),AND(D14<0,C14>0)),"n.a",IFERROR(C14/D14-1,"N.A.")) -> -0.65004569 | F14: =AB25/1000 -> 40.135226 | G14: =AC25/1000 -> 46.516043 | H14: =IF(OR(AND(G14>0,F14<0),AND(G14<0,F14>0)),"n.a",IFERROR(F14/G14-1,"N.A.")) -> -0.13717454 | J14: =IFERROR(C14-D14,"N.A") -> -9.0830749 | K14: =IFERROR(F14-G14,"N.A") -> -6.3808169 | M14: Receita Operacional Líquida | N14: 55095.678 | O14: 249018.83 | P14: =IF(OR(AND(O14>0,N14<0),AND(O14<0,N14>0)),"n.a",IFERROR(N14/O14-1,"N.A.")) -> -0.77874895 | Q14: 420019.86 | R14: 589383.89 | S14: =IF(OR(AND(R14>0,Q14<0),AND(R14<0,Q14>0)),"n.a",IFERROR(Q14/R14-1,"N.A.")) -> -0.28735774 | U14: =N14-O14 -> -193923.15 | V14: =Q14-R14 -> -169364.02 | X14: Receita Operacional Líquida | Y14: 11535.87 | Z14: 31509.532 | AA14: =IF(OR(AND(Z14>0,Y14<0),AND(Z14<0,Y14>0)),"n.a",IFERROR(Y14/Z14-1,"N.A.")) -> -0.63389269 | AB14: 88679.237 | AC14: 103500.55 | AD14: =IF(OR(AND(AC14>0,AB14<0),AND(AC14<0,AB14>0)),"n.a",IFERROR(AB14/AC14-1,"N.A.")) -> -0.14320036 | AF14: =Y14-Z14 -> -19973.662 | AG14: =AB14-AC14 -> -14821.317 | AI14: Receita Operacional Líquida | AJ14: 26583 | AK14: 26605 | AL14: =IF(OR(AND(AK14>0,AJ14<0),AND(AK14<0,AJ14>0)),"n.a",IFERROR(AJ14/AK14-1,"N.A.")) -> -0.00082691223 | AM14: 80387 | AN14: 77560 | AO14: =IF(OR(AND(AN14>0,AM14<0),AND(AN14<0,AM14>0)),"n.a",IFERROR(AM14/AN14-1,"N.A.")) -> 0.036449201 | AQ14: =AJ14-AK14 -> -22 | AR14: =AM14-AN14 -> 2827 | AT14: Receita Operacional Líquida | AU14: 41977 | AV14: 40546 | AW14: =IF(OR(AND(AV14>0,AU14<0),AND(AV14<0,AU14>0)),"n.a",IFERROR(AU14/AV14-1,"N.A.")) -> 0.035293247 | AX14: 121989 | AY14: 115226 | AZ14: =IF(OR(AND(AY14>0,AX14<0),AND(AY14<0,AX14>0)),"n.a",IFERROR(AX14/AY14-1,"N.A.")) -> 0.05869335 | BB14: =AU14-AV14 -> 1431 | BC14: =AX14-AY14 -> 6763 | BE14: Receita Operacional Líquida | BF14: 59598.686 | BG14: 92547.17 | BH14: =IF(OR(AND(BG14>0,BF14<0),AND(BG14<0,BF14>0)),"n.a",IFERROR(BF14/BG14-1,"N.A.")) -> -0.35601828 | BI14: 259057.15 | BJ14: 280498.08 | BK14: =IF(OR(AND(BJ14>0,BI14<0),AND(BJ14<0,BI14>0)),"n.a",IFERROR(BI14/BJ14-1,"N.A.")) -> -0.076438751 | BM14: =BF14-BG14 -> -32948.484 | BN14: =BI14-BJ14 -> -21440.923 | BP14: Receita Operacional Líquida | BQ14: =SUM(AJ14,AU14,BF14) -> 128158.69 | BR14: =SUM(AK14,AV14,BG14) -> 159698.17 | BS14: =IF(OR(AND(BR14>0,BQ14<0),AND(BR14<0,BQ14>0)),"n.a",IFERROR(BQ14/BR14-1,"N.A.")) -> -0.19749434 | BT14: =SUM(AM14,AX14,BI14) -> 461433.15 | BU14: =SUM(AN14,AY14,BJ14) -> 473284.08 | BV14: =IF(OR(AND(BU14>0,BT14<0),AND(BU14<0,BT14>0)),"n.a",IFERROR(BT14/BU14-1,"N.A.")) -> -0.025039766 | BX14: =BQ14-BR14 -> -31539.484 | BY14: =BT14-BU14 -> -11850.923
B15: IE Aimorés (50%) | C15: =AJ25/1000 -> 12.506 | D15: =AK25/1000 -> 12.92 | E15: =IF(OR(AND(D15>0,C15<0),AND(D15<0,C15>0)),"n.a",IFERROR(C15/D15-1,"N.A.")) -> -0.032043344 | F15: =AM25/1000 -> 38.0365 | G15: =AN25/1000 -> 36.7205 | H15: =IF(OR(AND(G15>0,F15<0),AND(G15<0,F15>0)),"n.a",IFERROR(F15/G15-1,"N.A.")) -> 0.035838292 | J15: =IFERROR(C15-D15,"N.A") -> -0.414 | K15: =IFERROR(F15-G15,"N.A") -> 1.316 | M15: Custos e Despesas | N15: -10458.062 | O15: -49464.894 | P15: =IF(OR(AND(O15>0,N15<0),AND(O15<0,N15>0)),"n.a",IFERROR(N15/O15-1,"N.A.")) -> -0.78857608 | Q15: -44349.552 | R15: -85648.969 | S15: =IF(OR(AND(R15>0,Q15<0),AND(R15<0,Q15>0)),"n.a",IFERROR(Q15/R15-1,"N.A.")) -> -0.48219398 | U15: =N15-O15 -> 39006.833 | V15: =Q15-R15 -> 41299.417 | X15: Custos e Despesas | Y15: -1947.8221 | Z15: -4111.5331 | AA15: =IF(OR(AND(Z15>0,Y15<0),AND(Z15<0,Y15>0)),"n.a",IFERROR(Y15/Z15-1,"N.A.")) -> -0.52625406 | AB15: -9982.7162 | AC15: -12292.628 | AD15: =IF(OR(AND(AC15>0,AB15<0),AND(AC15<0,AB15>0)),"n.a",IFERROR(AB15/AC15-1,"N.A.")) -> -0.18791031 | AF15: =Y15-Z15 -> 2163.711 | AG15: =AB15-AC15 -> 2309.9115 | AI15: Custos e Despesas | AJ15: -1571 | AK15: -765 | AL15: =IF(OR(AND(AK15>0,AJ15<0),AND(AK15<0,AJ15>0)),"n.a",IFERROR(AJ15/AK15-1,"N.A.")) -> 1.0535948 | AM15: -4314 | AN15: -4119 | AO15: =IF(OR(AND(AN15>0,AM15<0),AND(AN15<0,AM15>0)),"n.a",IFERROR(AM15/AN15-1,"N.A.")) -> 0.047341588 | AQ15: =AJ15-AK15 -> -806 | AR15: =AM15-AN15 -> -195 | AT15: Custos e Despesas | AU15: -2195 | AV15: -1626 | AW15: =IF(OR(AND(AV15>0,AU15<0),AND(AV15<0,AU15>0)),"n.a",IFERROR(AU15/AV15-1,"N.A.")) -> 0.3499385 | AX15: -6443 | AY15: -5994 | AZ15: =IF(OR(AND(AY15>0,AX15<0),AND(AY15<0,AX15>0)),"n.a",IFERROR(AX15/AY15-1,"N.A.")) -> 0.074908242 | BB15: =AU15-AV15 -> -569 | BC15: =AX15-AY15 -> -449 | BE15: Custos e Despesas | BF15: -4907.0012 | BG15: -6277.8148 | BH15: =IF(OR(AND(BG15>0,BF15<0),AND(BG15<0,BF15>0)),"n.a",IFERROR(BF15/BG15-1,"N.A.")) -> -0.2183584 | BI15: -15713.646 | BJ15: -16291.517 | BK15: =IF(OR(AND(BJ15>0,BI15<0),AND(BJ15<0,BI15>0)),"n.a",IFERROR(BI15/BJ15-1,"N.A.")) -> -0.035470646 | BM15: =BF15-BG15 -> 1370.8136 | BN15: =BI15-BJ15 -> 577.87062 | BP15: Custos e Despesas | BQ15: =SUM(AJ15,AU15,BF15) -> -8673.0012 | BR15: =SUM(AK15,AV15,BG15) -> -8668.8148 | BS15: =IF(OR(AND(BR15>0,BQ15<0),AND(BR15<0,BQ15>0)),"n.a",IFERROR(BQ15/BR15-1,"N.A.")) -> 0.00048292646 | BT15: =SUM(AM15,AX15,BI15) -> -26470.646 | BU15: =SUM(AN15,AY15,BJ15) -> -26404.517 | BV15: =IF(OR(AND(BU15>0,BT15<0),AND(BU15<0,BT15>0)),"n.a",IFERROR(BT15/BU15-1,"N.A.")) -> 0.0025044723 | BX15: =BQ15-BR15 -> -4.1864 | BY15: =BT15-BU15 -> -66.12938
B16: IE Paraguaçu (50%) | C16: =AU25/1000 -> 19.891 | D16: =AV25/1000 -> 19.46 | E16: =IF(OR(AND(D16>0,C16<0),AND(D16<0,C16>0)),"n.a",IFERROR(C16/D16-1,"N.A.")) -> 0.022147996 | F16: =AX25/1000 -> 57.773 | G16: =AY25/1000 -> 54.616 | H16: =IF(OR(AND(G16>0,F16<0),AND(G16<0,F16>0)),"n.a",IFERROR(F16/G16-1,"N.A.")) -> 0.057803574 | J16: =IFERROR(C16-D16,"N.A") -> 0.431 | K16: =IFERROR(F16-G16,"N.A") -> 3.157 | M16: Depreciação | N16: -12140.06 | O16: -36456.599 | P16: =IF(OR(AND(O16>0,N16<0),AND(O16<0,N16>0)),"n.a",IFERROR(N16/O16-1,"N.A.")) -> -0.66699966 | Q16: -84995.04 | R16: -109839.34 | S16: =IF(OR(AND(R16>0,Q16<0),AND(R16<0,Q16>0)),"n.a",IFERROR(Q16/R16-1,"N.A.")) -> -0.2261876 | U16: =N16-O16 -> 24316.539 | V16: =Q16-R16 -> 24844.296 | X16: Depreciação | Y16: -2378.131 | Z16: -6726.2716 | AA16: =IF(OR(AND(Z16>0,Y16<0),AND(Z16<0,Y16>0)),"n.a",IFERROR(Y16/Z16-1,"N.A.")) -> -0.64644142 | AB16: -16652.908 | AC16: -19438.467 | AD16: =IF(OR(AND(AC16>0,AB16<0),AND(AC16<0,AB16>0)),"n.a",IFERROR(AB16/AC16-1,"N.A.")) -> -0.1433014 | AF16: =Y16-Z16 -> 4348.1406 | AG16: =AB16-AC16 -> 2785.5595 | AI16: Depreciação | AJ16: -2722 | AK16: -2721 | AL16: =IF(OR(AND(AK16>0,AJ16<0),AND(AK16<0,AJ16>0)),"n.a",IFERROR(AJ16/AK16-1,"N.A.")) -> 0.00036751194 | AM16: -8165 | AN16: -8163 | AO16: =IF(OR(AND(AN16>0,AM16<0),AND(AN16<0,AM16>0)),"n.a",IFERROR(AM16/AN16-1,"N.A.")) -> 0.00024500796 | AQ16: =AJ16-AK16 -> -1 | AR16: =AM16-AN16 -> -2 | AT16: Depreciação | AU16: -4657 | AV16: -4658 | AW16: =IF(OR(AND(AV16>0,AU16<0),AND(AV16<0,AU16>0)),"n.a",IFERROR(AU16/AV16-1,"N.A.")) -> -0.00021468441 | AX16: -13972 | AY16: -13962 | AZ16: =IF(OR(AND(AY16>0,AX16<0),AND(AY16<0,AX16>0)),"n.a",IFERROR(AX16/AY16-1,"N.A.")) -> 0.00071622977 | BB16: =AU16-AV16 -> 1 | BC16: =AX16-AY16 -> -10 | BE16: Depreciação | BF16: -12533.502 | BG16: -15243.134 | BH16: =IF(OR(AND(BG16>0,BF16<0),AND(BG16<0,BF16>0)),"n.a",IFERROR(BF16/BG16-1,"N.A.")) -> -0.17776081 | BI16: -40545.747 | BJ16: -42328.78 | BK16: =IF(OR(AND(BJ16>0,BI16<0),AND(BJ16<0,BI16>0)),"n.a",IFERROR(BI16/BJ16-1,"N.A.")) -> -0.042123418 | BM16: =BF16-BG16 -> 2709.6318 | BN16: =BI16-BJ16 -> 1783.0329 | BP16: Depreciação | BQ16: =SUM(AJ16,AU16,BF16) -> -19912.502 | BR16: =SUM(AK16,AV16,BG16) -> -22622.134 | BS16: =IF(OR(AND(BR16>0,BQ16<0),AND(BR16<0,BQ16>0)),"n.a",IFERROR(BQ16/BR16-1,"N.A.")) -> -0.1197779 | BT16: =SUM(AM16,AX16,BI16) -> -62682.747 | BU16: =SUM(AN16,AY16,BJ16) -> -64453.78 | BV16: =IF(OR(AND(BU16>0,BT16<0),AND(BU16<0,BT16>0)),"n.a",IFERROR(BT16/BU16-1,"N.A.")) -> -0.027477565 | BX16: =BQ16-BR16 -> 2709.6318 | BY16: =BT16-BU16 -> 1771.0329
B17: IE Ivaí (50%) | C17: =BF25/1000 -> 26.759085 | D17: =BG25/1000 -> 43.134678 | E17: =IF(OR(AND(D17>0,C17<0),AND(D17<0,C17>0)),"n.a",IFERROR(C17/D17-1,"N.A.")) -> -0.37963869 | F17: =BI25/1000 -> 120.98197 | G17: =BJ25/1000 -> 132.12782 | H17: =IF(OR(AND(G17>0,F17<0),AND(G17<0,F17>0)),"n.a",IFERROR(F17/G17-1,"N.A.")) -> -0.084356628 | J17: =IFERROR(C17-D17,"N.A") -> -16.375593 | K17: =IFERROR(F17-G17,"N.A") -> -11.145858 | M17: EBITDA | N17: 44637.616 | O17: 199376.16 | P17: =IF(OR(AND(O17>0,N17<0),AND(O17<0,N17>0)),"n.a",IFERROR(N17/O17-1,"N.A.")) -> -0.77611357 | Q17: 375670.31 | R17: 503440.52 | S17: =IF(OR(AND(R17>0,Q17<0),AND(R17<0,Q17>0)),"n.a",IFERROR(Q17/R17-1,"N.A.")) -> -0.25379405 | U17: =N17-O17 -> -154738.55 | V17: =Q17-R17 -> -127770.21 | X17: EBITDA | Y17: 9588.0479 | Z17: 27397.999 | AA17: =IF(OR(AND(Z17>0,Y17<0),AND(Z17<0,Y17>0)),"n.a",IFERROR(Y17/Z17-1,"N.A.")) -> -0.65004569 | AB17: 78696.521 | AC17: 91207.927 | AD17: =IF(OR(AND(AC17>0,AB17<0),AND(AC17<0,AB17>0)),"n.a",IFERROR(AB17/AC17-1,"N.A.")) -> -0.13717454 | AF17: =Y17-Z17 -> -17809.951 | AG17: =AB17-AC17 -> -12511.406 | AI17: EBITDA | AJ17: 25012 | AK17: 25840 | AL17: =IF(OR(AND(AK17>0,AJ17<0),AND(AK17<0,AJ17>0)),"n.a",IFERROR(AJ17/AK17-1,"N.A.")) -> -0.032043344 | AM17: 76073 | AN17: 73441 | AO17: =IF(OR(AND(AN17>0,AM17<0),AND(AN17<0,AM17>0)),"n.a",IFERROR(AM17/AN17-1,"N.A.")) -> 0.035838292 | AQ17: =AJ17-AK17 -> -828 | AR17: =AM17-AN17 -> 2632 | AT17: EBITDA | AU17: 39782 | AV17: 38920 | AW17: =IF(OR(AND(AV17>0,AU17<0),AND(AV17<0,AU17>0)),"n.a",IFERROR(AU17/AV17-1,"N.A.")) -> 0.022147996 | AX17: 115546 | AY17: 109232 | AZ17: =IF(OR(AND(AY17>0,AX17<0),AND(AY17<0,AX17>0)),"n.a",IFERROR(AX17/AY17-1,"N.A.")) -> 0.057803574 | BB17: =AU17-AV17 -> 862 | BC17: =AX17-AY17 -> 6314 | BE17: EBITDA | BF17: 53518.17 | BG17: 86269.355 | BH17: =IF(OR(AND(BG17>0,BF17<0),AND(BG17<0,BF17>0)),"n.a",IFERROR(BF17/BG17-1,"N.A.")) -> -0.37963869 | BI17: 241963.93 | BJ17: 264255.65 | BK17: =IF(OR(AND(BJ17>0,BI17<0),AND(BJ17<0,BI17>0)),"n.a",IFERROR(BI17/BJ17-1,"N.A.")) -> -0.084356628 | BM17: =BF17-BG17 -> -32751.185 | BN17: =BI17-BJ17 -> -22291.716 | BP17: EBITDA | BQ17: =SUM(AJ17,AU17,BF17) -> 118312.17 | BR17: =SUM(AK17,AV17,BG17) -> 151029.36 | BS17: =IF(OR(AND(BR17>0,BQ17<0),AND(BR17<0,BQ17>0)),"n.a",IFERROR(BQ17/BR17-1,"N.A.")) -> -0.21662799 | BT17: =SUM(AM17,AX17,BI17) -> 433582.93 | BU17: =SUM(AN17,AY17,BJ17) -> 446928.65 | BV17: =IF(OR(AND(BU17>0,BT17<0),AND(BU17<0,BT17>0)),"n.a",IFERROR(BT17/BU17-1,"N.A.")) -> -0.029860953 | BX17: =BQ17-BR17 -> -32717.185 | BY17: =BT17-BU17 -> -13345.716
B18: Total | C18: =SUM(C11:C12) -> 3276.8946 | D18: =SUM(D11:D12) -> 1079.6511 | E18: =IF(OR(AND(D18>0,C18<0),AND(D18<0,C18>0)),"n.a",IFERROR(C18/D18-1,"N.A.")) -> 2.0351422 | F18: =SUM(F11:F12) -> 5626.6691 | G18: =SUM(G11:G12) -> 3128.0103 | H18: =IF(OR(AND(G18>0,F18<0),AND(G18<0,F18>0)),"n.a",IFERROR(F18/G18-1,"N.A.")) -> 0.79880133 | J18: =IFERROR(C18-D18,"N.A") -> 2197.2435 | K18: =IFERROR(D18-E18,"N.A") -> 1077.616 | M18: Resultado do Serviço | N18: =N14+N15+N16 -> 32497.557 | O18: 163097.34 | P18: =IF(OR(AND(O18>0,N18<0),AND(O18<0,N18>0)),"n.a",IFERROR(N18/O18-1,"N.A.")) -> -0.80074747 | Q18: =Q14+Q15+Q16 -> 290675.27 | R18: 393895.58 | S18: =IF(OR(AND(R18>0,Q18<0),AND(R18<0,Q18>0)),"n.a",IFERROR(Q18/R18-1,"N.A.")) -> -0.26204993 | U18: =N18-O18 -> -130599.78 | V18: =Q18-R18 -> -103220.31 | X18: Resultado do Serviço | Y18: =Y14+Y15+Y16 -> 7209.9168 | Z18: 20671.727 | AA18: =IF(OR(AND(Z18>0,Y18<0),AND(Z18<0,Y18>0)),"n.a",IFERROR(Y18/Z18-1,"N.A.")) -> -0.65121846 | AB18: =AB14+AB15+AB16 -> 62043.613 | AC18: 71769.459 | AD18: =IF(OR(AND(AC18>0,AB18<0),AND(AC18<0,AB18>0)),"n.a",IFERROR(AB18/AC18-1,"N.A.")) -> -0.13551511 | AF18: =Y18-Z18 -> -13461.81 | AG18: =AB18-AC18 -> -9725.8459 | AI18: Resultado do Serviço | AJ18: =AJ14+AJ15+AJ16 -> 22290 | AK18: 23119 | AL18: =IF(OR(AND(AK18>0,AJ18<0),AND(AK18<0,AJ18>0)),"n.a",IFERROR(AJ18/AK18-1,"N.A.")) -> -0.035857952 | AM18: =AM14+AM15+AM16 -> 67908 | AN18: 65278 | AO18: =IF(OR(AND(AN18>0,AM18<0),AND(AN18<0,AM18>0)),"n.a",IFERROR(AM18/AN18-1,"N.A.")) -> 0.040289225 | AQ18: =AJ18-AK18 -> -829 | AR18: =AM18-AN18 -> 2630 | AT18: Resultado do Serviço | AU18: =AU14+AU15+AU16 -> 35125 | AV18: 34262 | AW18: =IF(OR(AND(AV18>0,AU18<0),AND(AV18<0,AU18>0)),"n.a",IFERROR(AU18/AV18-1,"N.A.")) -> 0.025188255 | AX18: =AX14+AX15+AX16 -> 101574 | AY18: 95270 | AZ18: =IF(OR(AND(AY18>0,AX18<0),AND(AY18<0,AX18>0)),"n.a",IFERROR(AX18/AY18-1,"N.A.")) -> 0.066169833 | BB18: =AU18-AV18 -> 863 | BC18: =AX18-AY18 -> 6304 | BE18: Resultado do Serviço | BF18: =BF14+BF15+BF16 -> 42158.182 | BG18: 71026.221 | BH18: =IF(OR(AND(BG18>0,BF18<0),AND(BG18<0,BF18>0)),"n.a",IFERROR(BF18/BG18-1,"N.A.")) -> -0.40644199 | BI18: =BI14+BI15+BI16 -> 202797.76 | BJ18: 221877.78 | BK18: =IF(OR(AND(BJ18>0,BI18<0),AND(BJ18<0,BI18>0)),"n.a",IFERROR(BI18/BJ18-1,"N.A.")) -> -0.085993375 | BM18: =BF18-BG18 -> -28868.039 | BN18: =BI18-BJ18 -> -19080.019 | BP18: Resultado do Serviço | BQ18: =SUM(AJ18,AU18,BF18) -> 99573.182 | BR18: =SUM(AK18,AV18,BG18) -> 128407.22 | BS18: =IF(OR(AND(BR18>0,BQ18<0),AND(BR18<0,BQ18>0)),"n.a",IFERROR(BQ18/BR18-1,"N.A.")) -> -0.22455154 | BT18: =SUM(AM18,AX18,BI18) -> 372279.76 | BU18: =SUM(AN18,AY18,BJ18) -> 382425.78 | BV18: =IF(OR(AND(BU18>0,BT18<0),AND(BU18<0,BT18>0)),"n.a",IFERROR(BT18/BU18-1,"N.A.")) -> -0.026530688 | BX18: =BQ18-BR18 -> -28834.039 | BY18: =BT18-BU18 -> -10146.019
M19: Resultado Financeiro | N19: -4942.0003 | O19: -9745.8809 | P19: =IF(OR(AND(O19>0,N19<0),AND(O19<0,N19>0)),"n.a",IFERROR(N19/O19-1,"N.A.")) -> -0.49291394 | Q19: -20064.989 | R19: -36510.857 | S19: =IF(OR(AND(R19>0,Q19<0),AND(R19<0,Q19>0)),"n.a",IFERROR(Q19/R19-1,"N.A.")) -> -0.45043775 | U19: =N19-O19 -> 4803.8806 | V19: =Q19-R19 -> 16445.869 | X19: Resultado Financeiro | Y19: 0.69161 | Z19: -780.57469 | AA19: =IF(OR(AND(Z19>0,Y19<0),AND(Z19<0,Y19>0)),"n.a",IFERROR(Y19/Z19-1,"N.A.")) -> n.a | AB19: -308.0305 | AC19: -1963.1783 | AD19: =IF(OR(AND(AC19>0,AB19<0),AND(AC19<0,AB19>0)),"n.a",IFERROR(AB19/AC19-1,"N.A.")) -> -0.84309602 | AF19: =Y19-Z19 -> 781.2663 | AG19: =AB19-AC19 -> 1655.1478 | AI19: Resultado Financeiro | AJ19: -8511 | AK19: -7179 | AL19: =IF(OR(AND(AK19>0,AJ19<0),AND(AK19<0,AJ19>0)),"n.a",IFERROR(AJ19/AK19-1,"N.A.")) -> 0.18554116 | AM19: -25456 | AN19: -5850 | AO19: =IF(OR(AND(AN19>0,AM19<0),AND(AN19<0,AM19>0)),"n.a",IFERROR(AM19/AN19-1,"N.A.")) -> 3.351453 | AQ19: =AJ19-AK19 -> -1332 | AR19: =AM19-AN19 -> -19606 | AT19: Resultado Financeiro | AU19: -15699 | AV19: -13663 | AW19: =IF(OR(AND(AV19>0,AU19<0),AND(AV19<0,AU19>0)),"n.a",IFERROR(AU19/AV19-1,"N.A.")) -> 0.14901559 | AX19: -46254 | AY19: -9957 | AZ19: =IF(OR(AND(AY19>0,AX19<0),AND(AY19<0,AX19>0)),"n.a",IFERROR(AX19/AY19-1,"N.A.")) -> 3.6453751 | BB19: =AU19-AV19 -> -2036 | BC19: =AX19-AY19 -> -36297 | BE19: Resultado Financeiro | BF19: -70668.163 | BG19: -31263.959 | BH19: =IF(OR(AND(BG19>0,BF19<0),AND(BG19<0,BF19>0)),"n.a",IFERROR(BF19/BG19-1,"N.A.")) -> 1.2603716 | BI19: -203454.56 | BJ19: -148136 | BK19: =IF(OR(AND(BJ19>0,BI19<0),AND(BJ19<0,BI19>0)),"n.a",IFERROR(BI19/BJ19-1,"N.A.")) -> 0.37343091 | BM19: =BF19-BG19 -> -39404.204 | BN19: =BI19-BJ19 -> -55318.561 | BP19: Resultado Financeiro | BQ19: =SUM(AJ19,AU19,BF19) -> -94878.163 | BR19: =SUM(AK19,AV19,BG19) -> -52105.959 | BS19: =IF(OR(AND(BR19>0,BQ19<0),AND(BR19<0,BQ19>0)),"n.a",IFERROR(BQ19/BR19-1,"N.A.")) -> 0.82086973 | BT19: =SUM(AM19,AX19,BI19) -> -275164.56 | BU19: =SUM(AN19,AY19,BJ19) -> -163943 | BV19: =IF(OR(AND(BU19>0,BT19<0),AND(BU19<0,BT19>0)),"n.a",IFERROR(BT19/BU19-1,"N.A.")) -> 0.67841605 | BX19: =BQ19-BR19 -> -42772.204 | BY19: =BT19-BU19 -> -111221.56
M20: Outras receitas/despesas líquidas | N20: 0 | O20: -177.77568 | P20: =IF(OR(AND(O20>0,N20<0),AND(O20<0,N20>0)),"n.a",IFERROR(N20/O20-1,"N.A.")) -> -1 | Q20: 0 | R20: -294.40053 | S20: =IF(OR(AND(R20>0,Q20<0),AND(R20<0,Q20>0)),"n.a",IFERROR(Q20/R20-1,"N.A.")) -> -1 | U20: =N20-O20 -> 177.77568 | V20: =Q20-R20 -> 294.40053 | X20: Outras receitas/despesas líquidas | Y20: 0 | Z20: 0 | AA20: =IF(OR(AND(Z20>0,Y20<0),AND(Z20<0,Y20>0)),"n.a",IFERROR(Y20/Z20-1,"N.A.")) -> N.A. | AB20: 0 | AC20: 0.00028893 | AD20: =IF(OR(AND(AC20>0,AB20<0),AND(AC20<0,AB20>0)),"n.a",IFERROR(AB20/AC20-1,"N.A.")) -> -1 | AF20: =Y20-Z20 -> 0 | AG20: =AB20-AC20 -> -0.00028893 | AI20: Outras receitas/despesas líquidas | AJ20: 0 | AK20: 0 | AL20: =IF(OR(AND(AK20>0,AJ20<0),AND(AK20<0,AJ20>0)),"n.a",IFERROR(AJ20/AK20-1,"N.A.")) -> N.A. | AM20: 0 | AN20: 0 | AO20: =IF(OR(AND(AN20>0,AM20<0),AND(AN20<0,AM20>0)),"n.a",IFERROR(AM20/AN20-1,"N.A.")) -> N.A. | AQ20: =AJ20-AK20 -> 0 | AR20: =AM20-AN20 -> 0 | AT20: Outras receitas/despesas líquidas | AU20: 0 | AV20: 0 | AW20: =IF(OR(AND(AV20>0,AU20<0),AND(AV20<0,AU20>0)),"n.a",IFERROR(AU20/AV20-1,"N.A.")) -> N.A. | AX20: 0 | AY20: 0 | AZ20: =IF(OR(AND(AY20>0,AX20<0),AND(AY20<0,AX20>0)),"n.a",IFERROR(AX20/AY20-1,"N.A.")) -> N.A. | BB20: =AU20-AV20 -> 0 | BC20: =AX20-AY20 -> 0 | BE20: Outras receitas/despesas líquidas | BF20: -1173.5143 | BG20: 0 | BH20: =IF(OR(AND(BG20>0,BF20<0),AND(BG20<0,BF20>0)),"n.a",IFERROR(BF20/BG20-1,"N.A.")) -> N.A. | BI20: -1379.5726 | BJ20: 49.09097 | BK20: =IF(OR(AND(BJ20>0,BI20<0),AND(BJ20<0,BI20>0)),"n.a",IFERROR(BI20/BJ20-1,"N.A.")) -> n.a | BM20: =BF20-BG20 -> -1173.5143 | BN20: =BI20-BJ20 -> -1428.6636 | BP20: Outras receitas/despesas líquidas | BQ20: =SUM(AJ20,AU20,BF20) -> -1173.5143 | BR20: =SUM(AK20,AV20,BG20) -> 0 | BS20: =IF(OR(AND(BR20>0,BQ20<0),AND(BR20<0,BQ20>0)),"n.a",IFERROR(BQ20/BR20-1,"N.A.")) -> N.A. | BT20: =SUM(AM20,AX20,BI20) -> -1379.5726 | BU20: =SUM(AN20,AY20,BJ20) -> 49.09097 | BV20: =IF(OR(AND(BU20>0,BT20<0),AND(BU20<0,BT20>0)),"n.a",IFERROR(BT20/BU20-1,"N.A.")) -> n.a | BX20: =BQ20-BR20 -> -1173.5143 | BY20: =BT20-BU20 -> -1428.6636
B21: Equivalência Patrimonial | C21: Consolidado | J21: vs Tri | K21: vs Acum | M21: Lucro antes do IR & CSLL | N21: 27555.556 | O21: 153173.68 | P21: =IF(OR(AND(O21>0,N21<0),AND(O21<0,N21>0)),"n.a",IFERROR(N21/O21-1,"N.A.")) -> -0.82010254 | Q21: 270610.28 | R21: 357090.32 | S21: =IF(OR(AND(R21>0,Q21<0),AND(R21<0,Q21>0)),"n.a",IFERROR(Q21/R21-1,"N.A.")) -> -0.24217974 | U21: =N21-O21 -> -125618.13 | V21: =Q21-R21 -> -86480.041 | X21: Lucro antes do IR & CSLL | Y21: 7210.6085 | Z21: 19891.152 | AA21: =IF(OR(AND(Z21>0,Y21<0),AND(Z21<0,Y21>0)),"n.a",IFERROR(Y21/Z21-1,"N.A.")) -> -0.6374967 | AB21: 61735.583 | AC21: 69806.281 | AD21: =IF(OR(AND(AC21>0,AB21<0),AND(AC21<0,AB21>0)),"n.a",IFERROR(AB21/AC21-1,"N.A.")) -> -0.11561565 | AF21: =Y21-Z21 -> -12680.544 | AG21: =AB21-AC21 -> -8070.6984 | AI21: Lucro antes do IR & CSLL | AJ21: 13779 | AK21: 15940 | AL21: =IF(OR(AND(AK21>0,AJ21<0),AND(AK21<0,AJ21>0)),"n.a",IFERROR(AJ21/AK21-1,"N.A.")) -> -0.13557089 | AM21: 42452 | AN21: 59428 | AO21: =IF(OR(AND(AN21>0,AM21<0),AND(AN21<0,AM21>0)),"n.a",IFERROR(AM21/AN21-1,"N.A.")) -> -0.28565659 | AQ21: =AJ21-AK21 -> -2161 | AR21: =AM21-AN21 -> -16976 | AT21: Lucro antes do IR & CSLL | AU21: 19426 | AV21: 20599 | AW21: =IF(OR(AND(AV21>0,AU21<0),AND(AV21<0,AU21>0)),"n.a",IFERROR(AU21/AV21-1,"N.A.")) -> -0.056944512 | AX21: 55320 | AY21: 85313 | AZ21: =IF(OR(AND(AY21>0,AX21<0),AND(AY21<0,AX21>0)),"n.a",IFERROR(AX21/AY21-1,"N.A.")) -> -0.35156424 | BB21: =AU21-AV21 -> -1173 | BC21: =AX21-AY21 -> -29993 | BE21: Lucro antes do IR & CSLL | BF21: -29683.495 | BG21: 39762.263 | BH21: =IF(OR(AND(BG21>0,BF21<0),AND(BG21<0,BF21>0)),"n.a",IFERROR(BF21/BG21-1,"N.A.")) -> n.a | BI21: -2036.3715 | BJ21: 73790.872 | BK21: =IF(OR(AND(BJ21>0,BI21<0),AND(BJ21<0,BI21>0)),"n.a",IFERROR(BI21/BJ21-1,"N.A.")) -> n.a | BM21: =BF21-BG21 -> -69445.758 | BN21: =BI21-BJ21 -> -75827.243 | BP21: Lucro antes do IR & CSLL | BQ21: =SUM(AJ21,AU21,BF21) -> 3521.505 | BR21: =SUM(AK21,AV21,BG21) -> 76301.263 | BS21: =IF(OR(AND(BR21>0,BQ21<0),AND(BR21<0,BQ21>0)),"n.a",IFERROR(BQ21/BR21-1,"N.A.")) -> -0.95384736 | BT21: =SUM(AM21,AX21,BI21) -> 95735.629 | BU21: =SUM(AN21,AY21,BJ21) -> 218531.87 | BV21: =IF(OR(AND(BU21>0,BT21<0),AND(BU21<0,BT21>0)),"n.a",IFERROR(BT21/BU21-1,"N.A.")) -> -0.56191457 | BX21: =BQ21-BR21 -> -72779.758 | BY21: =BT21-BU21 -> -122796.24
B22: (R$ milhões) | C22: 3T26 | D22: 3T25 | E22: Var (%) | F22: 9M26 | G22: 9M25 | H22: Var (%) | M22: IR & CSLL | N22: -7992.5049 | O22: -31980.111 | P22: =IF(OR(AND(O22>0,N22<0),AND(O22<0,N22>0)),"n.a",IFERROR(N22/O22-1,"N.A.")) -> -0.75007889 | Q22: -60325.85 | R22: -73685.657 | S22: =IF(OR(AND(R22>0,Q22<0),AND(R22<0,Q22>0)),"n.a",IFERROR(Q22/R22-1,"N.A.")) -> -0.18130811 | U22: =N22-O22 -> 23987.606 | V22: =Q22-R22 -> 13359.807 | X22: IR & CSLL | Y22: -495.28402 | Z22: -1582.2207 | AA22: =IF(OR(AND(Z22>0,Y22<0),AND(Z22<0,Y22>0)),"n.a",IFERROR(Y22/Z22-1,"N.A.")) -> -0.68696908 | AB22: -3623.2959 | AC22: -4654.8542 | AD22: =IF(OR(AND(AC22>0,AB22<0),AND(AC22<0,AB22>0)),"n.a",IFERROR(AB22/AC22-1,"N.A.")) -> -0.22160916 | AF22: =Y22-Z22 -> 1086.9367 | AG22: =AB22-AC22 -> 1031.5583 | AI22: IR & CSLL | AJ22: -2253 | AK22: -1797 | AL22: =IF(OR(AND(AK22>0,AJ22<0),AND(AK22<0,AJ22>0)),"n.a",IFERROR(AJ22/AK22-1,"N.A.")) -> 0.25375626 | AM22: -5297 | AN22: -6411 | AO22: =IF(OR(AND(AN22>0,AM22<0),AND(AN22<0,AM22>0)),"n.a",IFERROR(AM22/AN22-1,"N.A.")) -> -0.17376384 | AQ22: =AJ22-AK22 -> -456 | AR22: =AM22-AN22 -> 1114 | AT22: IR & CSLL | AU22: -2851 | AV22: -2547 | AW22: =IF(OR(AND(AV22>0,AU22<0),AND(AV22<0,AU22>0)),"n.a",IFERROR(AU22/AV22-1,"N.A.")) -> 0.11935611 | AX22: -3508 | AY22: -8591 | AZ22: =IF(OR(AND(AY22>0,AX22<0),AND(AY22<0,AX22>0)),"n.a",IFERROR(AX22/AY22-1,"N.A.")) -> -0.5916657 | BB22: =AU22-AV22 -> -304 | BC22: =AX22-AY22 -> 5083 | BE22: IR & CSLL | BF22: 43092.385 | BG22: -13522.621 | BH22: =IF(OR(AND(BG22>0,BF22<0),AND(BG22<0,BF22>0)),"n.a",IFERROR(BF22/BG22-1,"N.A.")) -> n.a | BI22: 33692.366 | BJ22: -25092.349 | BK22: =IF(OR(AND(BJ22>0,BI22<0),AND(BJ22<0,BI22>0)),"n.a",IFERROR(BI22/BJ22-1,"N.A.")) -> n.a | BM22: =BF22-BG22 -> 56615.006 | BN22: =BI22-BJ22 -> 58784.715 | BP22: IR & CSLL | BQ22: =SUM(AJ22,AU22,BF22) -> 37988.385 | BR22: =SUM(AK22,AV22,BG22) -> -17866.621 | BS22: =IF(OR(AND(BR22>0,BQ22<0),AND(BR22<0,BQ22>0)),"n.a",IFERROR(BQ22/BR22-1,"N.A.")) -> n.a | BT22: =SUM(AM22,AX22,BI22) -> 24887.366 | BU22: =SUM(AN22,AY22,BJ22) -> -40094.349 | BV22: =IF(OR(AND(BU22>0,BT22<0),AND(BU22<0,BT22>0)),"n.a",IFERROR(BT22/BU22-1,"N.A.")) -> n.a | BX22: =BQ22-BR22 -> 55855.006 | BY22: =BT22-BU22 -> 64981.715
B23: IE Madeira (51%) | C23: =N26/1000 -> 9.9771562 | D23: =O26/1000 -> 61.808721 | E23: =IF(OR(AND(D23>0,C23<0),AND(D23<0,C23>0)),"n.a",IFERROR(C23/D23-1,"N.A.")) -> -0.83858012 | F23: =Q26/1000 -> 107.24506 | G23: =R26/1000 -> 144.53638 | H23: =IF(OR(AND(G23>0,F23<0),AND(G23<0,F23>0)),"n.a",IFERROR(F23/G23-1,"N.A.")) -> -0.25800646 | J23: =IFERROR(C23-D23,"N.A") -> -51.831565 | K23: =IFERROR(F23-G23,"N.A") -> -37.29132 | M23: Lucro líquido | N23: 19563.051 | O23: 121193.57 | P23: =IF(OR(AND(O23>0,N23<0),AND(O23<0,N23>0)),"n.a",IFERROR(N23/O23-1,"N.A.")) -> -0.83858012 | Q23: 210284.43 | R23: 283404.67 | S23: =IF(OR(AND(R23>0,Q23<0),AND(R23<0,Q23>0)),"n.a",IFERROR(Q23/R23-1,"N.A.")) -> -0.25800646 | U23: =N23-O23 -> -101630.52 | V23: =Q23-R23 -> -73120.235 | X23: Lucro líquido | Y23: 6715.3244 | Z23: 18308.932 | AA23: =IF(OR(AND(Z23>0,Y23<0),AND(Z23<0,Y23>0)),"n.a",IFERROR(Y23/Z23-1,"N.A.")) -> -0.63322139 | AB23: 58112.287 | AC23: 65151.427 | AD23: =IF(OR(AND(AC23>0,AB23<0),AND(AC23<0,AB23>0)),"n.a",IFERROR(AB23/AC23-1,"N.A.")) -> -0.10804276 | AF23: =Y23-Z23 -> -11593.607 | AG23: =AB23-AC23 -> -7039.1401 | AI23: Lucro líquido | AJ23: 11526 | AK23: 14143 | AL23: =IF(OR(AND(AK23>0,AJ23<0),AND(AK23<0,AJ23>0)),"n.a",IFERROR(AJ23/AK23-1,"N.A.")) -> -0.18503853 | AM23: 37155 | AN23: 53017 | AO23: =IF(OR(AND(AN23>0,AM23<0),AND(AN23<0,AM23>0)),"n.a",IFERROR(AM23/AN23-1,"N.A.")) -> -0.29918705 | AQ23: =AJ23-AK23 -> -2617 | AR23: =AM23-AN23 -> -15862 | AT23: Lucro líquido | AU23: 16575 | AV23: 18052 | AW23: =IF(OR(AND(AV23>0,AU23<0),AND(AV23<0,AU23>0)),"n.a",IFERROR(AU23/AV23-1,"N.A.")) -> -0.081819189 | AX23: 51812 | AY23: 76722 | AZ23: =IF(OR(AND(AY23>0,AX23<0),AND(AY23<0,AX23>0)),"n.a",IFERROR(AX23/AY23-1,"N.A.")) -> -0.32467871 | BB23: =AU23-AV23 -> -1477 | BC23: =AX23-AY23 -> -24910 | BE23: Lucro líquido | BF23: 13408.89 | BG23: 26239.642 | BH23: =IF(OR(AND(BG23>0,BF23<0),AND(BG23<0,BF23>0)),"n.a",IFERROR(BF23/BG23-1,"N.A.")) -> -0.48898349 | BI23: 31655.995 | BJ23: 48698.523 | BK23: =IF(OR(AND(BJ23>0,BI23<0),AND(BJ23<0,BI23>0)),"n.a",IFERROR(BI23/BJ23-1,"N.A.")) -> -0.34995986 | BM23: =BF23-BG23 -> -12830.752 | BN23: =BI23-BJ23 -> -17042.528 | BP23: Lucro líquido | BQ23: =SUM(AJ23,AU23,BF23) -> 41509.89 | BR23: =SUM(AK23,AV23,BG23) -> 58434.642 | BS23: =IF(OR(AND(BR23>0,BQ23<0),AND(BR23<0,BQ23>0)),"n.a",IFERROR(BQ23/BR23-1,"N.A.")) -> -0.28963559 | BT23: =SUM(AM23,AX23,BI23) -> 120622.99 | BU23: =SUM(AN23,AY23,BJ23) -> 178437.52 | BV23: =IF(OR(AND(BU23>0,BT23<0),AND(BU23<0,BT23>0)),"n.a",IFERROR(BT23/BU23-1,"N.A.")) -> -0.32400432 | BX23: =BQ23-BR23 -> -16924.752 | BY23: =BT23-BU23 -> -57814.528
B24: IE Garanhuns (51%) | C24: =Y26/1000 -> 3.4248155 | D24: =Z26/1000 -> 9.3375551 | E24: =IF(OR(AND(D24>0,C24<0),AND(D24<0,C24>0)),"n.a",IFERROR(C24/D24-1,"N.A.")) -> -0.63322139 | F24: =AB26/1000 -> 29.637266 | G24: =AC26/1000 -> 33.227228 | H24: =IF(OR(AND(G24>0,F24<0),AND(G24<0,F24>0)),"n.a",IFERROR(F24/G24-1,"N.A.")) -> -0.10804276 | J24: =IFERROR(C24-D24,"N.A") -> -5.9127397 | K24: =IFERROR(F24-G24,"N.A") -> -3.5899614
B25: AIE (50%) | C25: =SUM(C26:C28) -> 20.754945 | D25: =SUM(D26:D28) -> 29.217321 | E25: =IF(OR(AND(D25>0,C25<0),AND(D25<0,C25>0)),"n.a",IFERROR(C25/D25-1,"N.A.")) -> -0.28963559 | F25: =SUM(F26:F28) -> 60.311497 | G25: =SUM(G26:G28) -> 89.218762 | H25: =IF(OR(AND(G25>0,F25<0),AND(G25<0,F25>0)),"n.a",IFERROR(F25/G25-1,"N.A.")) -> -0.32400432 | J25: =IFERROR(C25-D25,"N.A") -> -8.4623758 | K25: =IFERROR(F25-G25,"N.A") -> -28.907264 | M25: Part .ISA ENERGIA BRASIL (51%) no EBITDA | N25: =N17*51% -> 22765.184 | O25: =O17*51% -> 101681.84 | P25: =IFERROR(N25/O25-1,"N.A.") -> -0.77611357 | Q25: =Q17*51% -> 191591.86 | R25: =R17*51% -> 256754.66 | S25: =IFERROR(Q25/R25-1,"N.A.") -> -0.25379405 | U25: =N25-O25 -> -78916.658 | V25: =Q25-R25 -> -65162.805 | X25: Part .ISA ENERGIA BRASIL (51%) no EBITDA | Y25: =Y17*51% -> 4889.9044 | Z25: =Z17*51% -> 13972.979 | AA25: =IFERROR(Y25/Z25-1,"N.A.") -> -0.65004569 | AB25: =AB17*51% -> 40135.226 | AC25: =AC17*51% -> 46516.043 | AD25: =IFERROR(AB25/AC25-1,"N.A.") -> -0.13717454 | AF25: =Y25-Z25 -> -9083.0749 | AG25: =AB25-AC25 -> -6380.8169 | AI25: Part .ISA ENERGIA BRASIL (50%) no EBITDA | AJ25: =AJ17*50% -> 12506 | AK25: =AK17*50% -> 12920 | AL25: =IFERROR(AJ25/AK25-1,"N.A.") -> -0.032043344 | AM25: =AM17*50% -> 38036.5 | AN25: =AN17*50% -> 36720.5 | AO25: =IFERROR(AM25/AN25-1,"N.A.") -> 0.035838292 | AQ25: =AJ25-AK25 -> -414 | AR25: =AM25-AN25 -> 1316 | AT25: Part .ISA ENERGIA BRASIL (50%) no EBITDA | AU25: =AU17*50% -> 19891 | AV25: =AV17*50% -> 19460 | AW25: =IFERROR(AU25/AV25-1,"N.A.") -> 0.022147996 | AX25: =AX17*50% -> 57773 | AY25: =AY17*50% -> 54616 | AZ25: =IFERROR(AX25/AY25-1,"N.A.") -> 0.057803574 | BB25: =AU25-AV25 -> 431 | BC25: =AX25-AY25 -> 3157 | BE25: Part .ISA ENERGIA BRASIL (50%) no EBITDA | BF25: =BF17*50% -> 26759.085 | BG25: =BG17*50% -> 43134.678 | BH25: =IFERROR(BF25/BG25-1,"N.A.") -> -0.37963869 | BI25: =BI17*50% -> 120981.97 | BJ25: =BJ17*50% -> 132127.82 | BK25: =IFERROR(BI25/BJ25-1,"N.A.") -> -0.084356628 | BM25: =BF25-BG25 -> -16375.593 | BN25: =BI25-BJ25 -> -11145.858 | BP25: Part .ISA ENERGIA BRASIL (50%) no EBITDA | BQ25: =BQ17*50% -> 59156.085 | BR25: =BR17*50% -> 75514.678 | BS25: =IFERROR(BQ25/BR25-1,"N.A.") -> -0.21662799 | BT25: =BT17*50% -> 216791.47 | BU25: =BU17*50% -> 223464.32 | BV25: =IFERROR(BT25/BU25-1,"N.A.") -> -0.029860953 | BX25: =BQ25-BR25 -> -16358.593 | BY25: =BT25-BU25 -> -6672.8578
B26: IE Aimorés | C26: =AJ26/1000 -> 5.763 | D26: =AK26/1000 -> 7.0715 | E26: =IF(OR(AND(D26>0,C26<0),AND(D26<0,C26>0)),"n.a",IFERROR(C26/D26-1,"N.A.")) -> -0.18503853 | F26: =AM26/1000 -> 18.5775 | G26: =AN26/1000 -> 26.5085 | H26: =IF(OR(AND(G26>0,F26<0),AND(G26<0,F26>0)),"n.a",IFERROR(F26/G26-1,"N.A.")) -> -0.29918705 | J26: =IFERROR(C26-D26,"N.A") -> -1.3085 | K26: =IFERROR(F26-G26,"N.A") -> -7.931 | M26: Part .ISA ENERGIA BRASIL (51%) no Lucro | N26: =N23*51% -> 9977.1562 | O26: =O23*51% -> 61808.721 | P26: =IFERROR(N26/O26-1,"N.A.") -> -0.83858012 | Q26: =Q23*51% -> 107245.06 | R26: =R23*51% -> 144536.38 | S26: =IFERROR(Q26/R26-1,"N.A.") -> -0.25800646 | U26: =N26-O26 -> -51831.565 | V26: =Q26-R26 -> -37291.32 | X26: Part .ISA ENERGIA BRASIL (51%) no Lucro | Y26: =Y23*51% -> 3424.8155 | Z26: =Z23*51% -> 9337.5551 | AA26: =IFERROR(Y26/Z26-1,"N.A.") -> -0.63322139 | AB26: =AB23*51% -> 29637.266 | AC26: =AC23*51% -> 33227.228 | AD26: =IFERROR(AB26/AC26-1,"N.A.") -> -0.10804276 | AF26: =Y26-Z26 -> -5912.7397 | AG26: =AB26-AC26 -> -3589.9614 | AI26: Part .ISA ENERGIA BRASIL (50%) no Lucro | AJ26: =AJ23*50% -> 5763 | AK26: =AK23*50% -> 7071.5 | AL26: =IFERROR(AJ26/AK26-1,"N.A.") -> -0.18503853 | AM26: =AM23*50% -> 18577.5 | AN26: =AN23*50% -> 26508.5 | AO26: =IFERROR(AM26/AN26-1,"N.A.") -> -0.29918705 | AQ26: =AJ26-AK26 -> -1308.5 | AR26: =AM26-AN26 -> -7931 | AT26: Part .ISA ENERGIA BRASIL (50%) no Lucro | AU26: =AU23*50% -> 8287.5 | AV26: =AV23*50% -> 9026 | AW26: =IFERROR(AU26/AV26-1,"N.A.") -> -0.081819189 | AX26: =AX23*50% -> 25906 | AY26: =AY23*50% -> 38361 | AZ26: =IFERROR(AX26/AY26-1,"N.A.") -> -0.32467871 | BB26: =AU26-AV26 -> -738.5 | BC26: =AX26-AY26 -> -12455 | BE26: Part .ISA ENERGIA BRASIL (50%) no Lucro | BF26: =BF23*50% -> 6704.445 | BG26: =BG23*50% -> 13119.821 | BH26: =IFERROR(BF26/BG26-1,"N.A.") -> -0.48898349 | BI26: =BI23*50% -> 15827.997 | BJ26: =BJ23*50% -> 24349.262 | BK26: =IFERROR(BI26/BJ26-1,"N.A.") -> -0.34995986 | BM26: =BF26-BG26 -> -6415.3758 | BN26: =BI26-BJ26 -> -8521.2642 | BP26: Part .ISA ENERGIA BRASIL (50%) no Lucro | BQ26: =BQ23*50% -> 20754.945 | BR26: =BR23*50% -> 29217.321 | BS26: =IFERROR(BQ26/BR26-1,"N.A.") -> -0.28963559 | BT26: =BT23*50% -> 60311.497 | BU26: =BU23*50% -> 89218.762 | BV26: =IFERROR(BT26/BU26-1,"N.A.") -> -0.32400432 | BX26: =BQ26-BR26 -> -8462.3758 | BY26: =BT26-BU26 -> -28907.264
